BEGIN:VCALENDAR
VERSION:2.0
PRODID:icalendar-ruby
CALSCALE:GREGORIAN
BEGIN:VEVENT
DTSTAMP:20260423T102144Z
UID:fd4f0125-b8dd-4703-afdf-1c4f7ab334cb
DTSTART;VALUE=DATE:20250327
DESCRIPTION:Property ID# 589117\, Locatoin: Ray White Johnsonville (not sel
 ling prior)\, Time: 1:00PM
SUMMARY:Auction for 
END:VEVENT
END:VCALENDAR
