BEGIN:VCALENDAR
VERSION:2.0
PRODID:icalendar-ruby
CALSCALE:GREGORIAN
BEGIN:VEVENT
DTSTAMP:20260423T110614Z
UID:94e8c204-be83-43d9-b0bb-6ad5c2bd35dc
DTSTART;VALUE=DATE:20231101
DESCRIPTION:Property ID# 563583\, Locatoin: Harcourts Office  Lower Hutt\, 
 Time: 12:00PM
SUMMARY:Auction for 
END:VEVENT
END:VCALENDAR
