BEGIN:VCALENDAR
VERSION:2.0
PRODID:icalendar-ruby
CALSCALE:GREGORIAN
BEGIN:VEVENT
DTSTAMP:20260423T110209Z
UID:a21187ff-7e6c-463c-8108-db75521a2b2b
DTSTART;VALUE=DATE:20221102
DESCRIPTION:Property ID# 545080\, Locatoin: Harcourts Building - 577 High S
 treet\, Lower Hutt\, Time: 12:00PM
SUMMARY:Auction for 
END:VEVENT
END:VCALENDAR
