BEGIN:VCALENDAR
VERSION:2.0
PRODID:icalendar-ruby
CALSCALE:GREGORIAN
BEGIN:VEVENT
DTSTAMP:20260423T110015Z
UID:56c6a031-fc4d-4028-aa17-e65fcc802cd5
DTSTART;VALUE=DATE:20211124
DESCRIPTION:Property ID# 521108\, Locatoin: Harcourts Building - 11 King St
 reet - Upper Hutt\, Time: 4:00PM
SUMMARY:Auction for 
END:VEVENT
END:VCALENDAR
