BEGIN:VCALENDAR
VERSION:2.0
PRODID:icalendar-ruby
CALSCALE:GREGORIAN
BEGIN:VEVENT
DTSTAMP:20260422T202706Z
UID:15caa8e0-0744-4b9b-930f-305f4498c5d1
DTSTART;VALUE=DATE:20211110
DESCRIPTION:Property ID# 520172\, Locatoin: Bayleys Office\, 62 Queens Stre
 et\, Upper Hutt\, Time: 2:00PM
SUMMARY:Auction for 
END:VEVENT
END:VCALENDAR
