BEGIN:VCALENDAR
VERSION:2.0
PRODID:icalendar-ruby
CALSCALE:GREGORIAN
BEGIN:VEVENT
DTSTAMP:20260422T202219Z
UID:8c9d075d-c1cd-42c7-969e-4583f329777f
DTSTART;VALUE=DATE:20201222
DESCRIPTION:Property ID# 497604\, Locatoin: 62 Queen Street\, Upper Hutt\, 
 Time: 12:00PM
SUMMARY:Auction for 
END:VEVENT
END:VCALENDAR
