BEGIN:VCALENDAR
VERSION:2.0
PRODID:icalendar-ruby
CALSCALE:GREGORIAN
BEGIN:VEVENT
DTSTAMP:20260422T202310Z
UID:22a17fdc-ab00-4d87-971a-3eafa6cb3ad7
DTSTART;VALUE=DATE:20201210
DESCRIPTION:Property ID# 496541\, Locatoin: 62 Queen Street\, Time: 2:00PM
SUMMARY:Auction for 
END:VEVENT
END:VCALENDAR
