BEGIN:VCALENDAR
VERSION:2.0
PRODID:icalendar-ruby
CALSCALE:GREGORIAN
BEGIN:VEVENT
DTSTAMP:20260424T084102Z
UID:1105a5a6-c1ba-4c6f-95c3-43aa0295c4dc
DTSTART;VALUE=DATE:20201125
DESCRIPTION:Property ID# 494743\, Locatoin: 62 Queen Street\, Upper Hutt\, 
 Time: 2:00PM
SUMMARY:Auction for 
END:VEVENT
END:VCALENDAR
