BEGIN:VCALENDAR
VERSION:2.0
PRODID:icalendar-ruby
CALSCALE:GREGORIAN
BEGIN:VEVENT
DTSTAMP:20260422T171155Z
UID:538e4c8e-0291-45b9-abbf-457dcf51490a
DTSTART;VALUE=DATE:20201028
DESCRIPTION:Property ID# 492035\, Locatoin: 62 Queen Street\, Upper Hutt\, 
 Time: 2:00PM
SUMMARY:Auction for 
END:VEVENT
END:VCALENDAR
